BEGIN:VCALENDAR
VERSION:2.0
PRODID:-//Date iCal//NONSGML kigkonsult.se iCalcreator 2.20.2//
METHOD:PUBLISH
BEGIN:VTIMEZONE
TZID:America/Chicago
BEGIN:STANDARD
DTSTART:20201101T020000
TZOFFSETFROM:-0500
TZOFFSETTO:-0600
RDATE:20211107T020000
TZNAME:CST
END:STANDARD
BEGIN:DAYLIGHT
DTSTART:20210314T020000
TZOFFSETFROM:-0600
TZOFFSETTO:-0500
TZNAME:CDT
END:DAYLIGHT
END:VTIMEZONE
BEGIN:VEVENT
UID:calendar.22231.field_calendar_date.0@diamondhead.ms.gov
DTSTAMP:20210616T125410Z
CREATED:20201104T201313Z
DTSTART;TZID=America/Chicago:20210519T093000
DTEND;TZID=America/Chicago:20210519T093000
LAST-MODIFIED:20201104T201313Z
SUMMARY:Diamondhead Garden Club
URL;TYPE=URI:https://diamondhead.ms.gov/community/page/diamondhead-garden-c
 lub-5
END:VEVENT
END:VCALENDAR
